BEGIN:VCALENDAR
VERSION:2.0
PRODID:-//Library Market//iCal Export//EN
BEGIN:VEVENT
SUMMARY:Ossining School District Annual Art Exhibit
UID:23967
DTSTAMP:20260423T121700Z
DTSTART:20260505T040000Z
DTEND:20260528T040000Z
LOCATION:Ossining Public Library, Ossining Public Library, 53 Croton Avenu
 e, Ossining, NY 10562, United States
ROOM: Gallery
DESCRIPTION:The Ossining Library is excited to present the work of the inc
 redibly talented student artists in our school district! The Ossining Sch
 ool District Annual Art Show will take place May 6 - 28, 2026 in the libra
 ry&#039;s Main Art Gallery on the lower level.Grades 6-12 will exhibit the
 ir work from the afternoon of May 5 through May 14, with their Opening Rec
 eption held on Wednesday, May 6th, from 5:00 to 6:30p.m.  The Grades K-5 
 exhibit will open the afternoon of May 19, and their Opening Reception wil
 l be held on Wednesday, May 20th, from 5:00 to 6:30p.m. The show will cont
 inue through May 28th.  We hope you will view this special exhibit at the
  library and admire the hard work of our students! 
URL:https://ossining.librarycalendar.com/event/school-district-annual-art-
 exhibit-23967
END:VEVENT
END:VCALENDAR
