BEGIN:VCALENDAR
VERSION:2.0
PRODID:-//Library Market//iCal Export//EN
BEGIN:VEVENT
SUMMARY:Meditation Group
UID:22670
DTSTAMP:20260425T015700Z
DTSTART:20260601T223000Z
DTEND:20260601T233000Z
LOCATION:Ossining Public Library, Ossining Public Library, 53 Croton Avenu
 e, Ossining, NY 10562, United States
ROOM: Budarz Theater
DESCRIPTION:Join us for weekly silent meditation hosted by Yorktown Zen an
 d the Ossining Public Library.Participants will have two 25-minute silent 
 meditation periods, separated by a brief walking meditation.  Cushions an
 d chairs are provided.This group is led by a trained and experienced instr
 uctor.Registration is preferred but not required.  Walk-ins are welcome.
URL:https://ossining.librarycalendar.com/event/meditation-group-22670
END:VEVENT
END:VCALENDAR
