BEGIN:VCALENDAR
VERSION:2.0
PRODID:-//Library Market//iCal Export//EN
BEGIN:VEVENT
SUMMARY:Mental Health Support Group
UID:21168
DTSTAMP:20260426T034700Z
DTSTART:20260528T223000Z
DTEND:20260529T000000Z
LOCATION:Ossining Public Library, Ossining Public Library, 53 Croton Avenu
 e, Ossining, NY 10562, United States
ROOM: Conference Room
DESCRIPTION:Please join us for an in-person support group in partnership w
 ith the Westchester Chapter of NAMI (National Alliance on Mental Illness) 
 Connection Recovery Support Group.  &quot;Connection&quot; is a peer-led 
 support group offered for individuals who have a mental health diagnosis a
 nd are living in recovery.This group meets once a month on the 4th Thursda
 y of every month in the evening.Pre-registration is required to attend. To
  register, please scan the QR code on the program flier OR call the NAMI o
 ffice/helpline directly at 914-592-5458.  Please Note: The library does N
 OT handle any registrations.https://namiwestchester.org/
URL:https://ossining.librarycalendar.com/event/mental-health-support-group
 -21168
END:VEVENT
END:VCALENDAR
