BEGIN:VCALENDAR
VERSION:2.0
PRODID:-//Library Market//iCal Export//EN
BEGIN:VEVENT
SUMMARY:Healthcare Navigator (by appointment)
UID:17780
DTSTAMP:20260422T130500Z
DTSTART:20260518T140000Z
DTEND:20260518T200000Z
LOCATION:Ossining Public Library, Ossining Public Library, 53 Croton Avenu
 e, Ossining, NY 10562, United States
ROOM: Study Room B (2nd Floor)
DESCRIPTION:Westchester County Department of Health Navigators are availab
 le by appointment in the Library.  Call 914-995-6350 or email HNAV@westc
 hestergov.com. Los Navegadores del Departamento de Salud del Condado de We
 stchester están disponibles para tener citas presenciales en la Bibliotec
 a. Llame a 914-995-6350 o envíe correo electrónico a HNAV@westchestergov
 .com.  As always, consumers can also call the Customer Service Center at
  1-855-355-5777 or visit the website, www.nystateofhealth.ny.gov.  Indiv
 iduals can find an enrollment assistor and receive enrollment assistance o
 ver the phone.  Siempre se puede llamar al Centro de Servicio del Cliente
  at 1-855-355-5777 o por visitar www.nystateofhealth.ny.gov. Se puede enc
 ontrar ayuda para inscribirse y recibir ayuda por teléfono. 
URL:https://ossining.librarycalendar.com/event/healthcare-navigator-17780
END:VEVENT
END:VCALENDAR
